0.1500000000
0.0000000000
0.0000000000
-0.1500000000
626765.3250000000
4498404.0749999955
