0.1500000000
0.0000000000
0.0000000000
-0.1500000000
710359.2749999999
4531998.8249999955
