0.1500000000
0.0000000000
0.0000000000
-0.1500000000
710557.5750000000
4528143.8249999955
