0.1500000000
0.0000000000
0.0000000000
-0.1500000000
658335.2250000000
4505973.6749999961
