0.1500000000
0.0000000000
0.0000000000
-0.1500000000
663616.5750000000
4506092.1749999961
