0.1500000000
0.0000000000
0.0000000000
-0.1500000000
658187.0250000000
4512912.0749999955
