0.1500000000
0.0000000000
0.0000000000
-0.1500000000
700212.0750000000
4520903.9249999961
