0.1500000000
0.0000000000
0.0000000000
-0.1500000000
700023.8250000000
4527842.7749999957
