0.1500000000
0.0000000000
0.0000000000
-0.1500000000
705290.7749999999
4527991.4249999952
