0.1500000000
0.0000000000
0.0000000000
-0.1500000000
679293.2250000000
4513408.5749999955
