0.1500000000
0.0000000000
0.0000000000
-0.1500000000
684569.9249999999
4513542.0749999955
