0.1500000000
0.0000000000
0.0000000000
-0.1500000000
658038.6749999999
4519850.4749999959
