0.1500000000
0.0000000000
0.0000000000
-0.1500000000
663310.1250000000
4519968.9749999959
