0.1500000000
0.0000000000
0.0000000000
-0.1500000000
663156.6749999999
4526907.5249999957
