0.1500000000
0.0000000000
0.0000000000
-0.1500000000
679125.0750000000
4520347.1249999953
