0.1500000000
0.0000000000
0.0000000000
-0.1500000000
678956.6250000000
4527285.6749999952
