0.1500000000
0.0000000000
0.0000000000
-0.1500000000
684223.4249999999
4527419.3249999955
