0.1500000000
0.0000000000
0.0000000000
-0.1500000000
673526.3250000000
4531998.8249999955
