0.1500000000
0.0000000000
0.0000000000
-0.1500000000
705097.2749999999
4531998.8249999955
