0.1500000000
0.0000000000
0.0000000000
-0.1500000000
605521.8750000000
4504996.1249999953
