0.1500000000
0.0000000000
0.0000000000
-0.1500000000
610699.4250000001
4512015.0749999955
