0.1500000000
0.0000000000
0.0000000000
-0.1500000000
605620.5750000000
4498058.1749999961
