0.1500000000
0.0000000000
0.0000000000
-0.1500000000
610906.7250000000
4498139.0249999957
