0.1500000000
0.0000000000
0.0000000000
-0.1500000000
616192.8750000000
4498223.6249999963
