0.1500000000
0.0000000000
0.0000000000
-0.1500000000
621479.0250000000
4498311.9749999959
