0.1500000000
0.0000000000
0.0000000000
-0.1500000000
674016.6749999999
4513278.8249999955
