0.1500000000
0.0000000000
0.0000000000
-0.1500000000
642224.0250000000
4519517.4749999959
