0.1500000000
0.0000000000
0.0000000000
-0.1500000000
616084.4250000001
4505161.5749999955
