0.1500000000
0.0000000000
0.0000000000
-0.1500000000
621365.6250000000
4505249.9249999961
