0.1500000000
0.0000000000
0.0000000000
-0.1500000000
615975.6750000001
4512099.6749999961
