0.1500000000
0.0000000000
0.0000000000
-0.1500000000
689668.4249999999
4520618.0249999957
