0.1500000000
0.0000000000
0.0000000000
-0.1500000000
694940.3250000000
4520759.0249999957
