0.1500000000
0.0000000000
0.0000000000
-0.1500000000
689490.2250000000
4527556.7249999959
