0.1500000000
0.0000000000
0.0000000000
-0.1500000000
652767.0750000000
4519735.7249999959
