0.1500000000
0.0000000000
0.0000000000
-0.1500000000
673853.4750000000
4520217.2249999959
