0.1500000000
0.0000000000
0.0000000000
-0.1500000000
668423.3250000000
4527029.7749999957
