0.1500000000
0.0000000000
0.0000000000
-0.1500000000
637337.7750000000
4498599.3749999963
