0.1500000000
0.0000000000
0.0000000000
-0.1500000000
642490.8750000000
4505640.9749999959
