0.1500000000
0.0000000000
0.0000000000
-0.1500000000
642624.0750000000
4498702.8749999963
