0.1500000000
0.0000000000
0.0000000000
-0.1500000000
637081.1250000000
4512475.8749999953
