0.1500000000
0.0000000000
0.0000000000
-0.1500000000
642357.5250000000
4512579.2249999959
