0.1500000000
0.0000000000
0.0000000000
-0.1500000000
647772.2250000000
4505748.0749999955
