0.1500000000
0.0000000000
0.0000000000
-0.1500000000
653053.7250000000
4505859.0749999955
