0.1500000000
0.0000000000
0.0000000000
-0.1500000000
647634.0750000000
4512686.4749999959
