0.1500000000
0.0000000000
0.0000000000
-0.1500000000
652910.4750000000
4512797.3249999955
