0.1500000000
0.0000000000
0.0000000000
-0.1500000000
626646.9750000000
4505342.0249999957
