0.1500000000
0.0000000000
0.0000000000
-0.1500000000
631928.1750000001
4505438.0249999957
