0.1500000000
0.0000000000
0.0000000000
-0.1500000000
631804.7250000000
4512376.1249999953
