0.3
0
0
-0.3
387000.15
4202999.85
