0.3
0
0
-0.3
378000.15
4172999.85
